BEGIN:VCALENDAR
VERSION:2.0
PRODID:-//One Meade - ECPv6.15.17.1//NONSGML v1.0//EN
CALSCALE:GREGORIAN
METHOD:PUBLISH
X-WR-CALNAME:One Meade
X-ORIGINAL-URL:https://meade100.com
X-WR-CALDESC:Events for One Meade
REFRESH-INTERVAL;VALUE=DURATION:PT1H
X-Robots-Tag:noindex
X-PUBLISHED-TTL:PT1H
BEGIN:VTIMEZONE
TZID:UTC
BEGIN:STANDARD
TZOFFSETFROM:+0000
TZOFFSETTO:+0000
TZNAME:UTC
DTSTART:20170101T000000
END:STANDARD
END:VTIMEZONE
BEGIN:VEVENT
DTSTART;TZID=UTC:20190426T070000
DTEND;TZID=UTC:20190426T150000
DTSTAMP:20260423T091412
CREATED:20190319T142725Z
LAST-MODIFIED:20190621T170546Z
UID:1425-1556262000-1556290800@meade100.com
SUMMARY:OSHA 30
DESCRIPTION:
URL:https://meade100.com/safety-training/osha-30-2/
LOCATION:Meade Safety Training\, 6850 W 62nd St\, Chicago\, IL\, 60638\, United States
ORGANIZER;CN="Safety":MAILTO:safety@meade100.com
END:VEVENT
BEGIN:VEVENT
DTSTART;TZID=UTC:20190424T070000
DTEND;TZID=UTC:20190424T110000
DTSTAMP:20260423T091412
CREATED:20190228T180619Z
LAST-MODIFIED:20190228T180619Z
UID:1382-1556089200-1556103600@meade100.com
SUMMARY:Confined Space Training
DESCRIPTION:
URL:https://meade100.com/safety-training/4-24-2019/
LOCATION:Meade Safety Training\, 6850 W 62nd St\, Chicago\, IL\, 60638\, United States
ORGANIZER;CN="Safety":MAILTO:safety@meade100.com
END:VEVENT
BEGIN:VEVENT
DTSTART;TZID=UTC:20190418T070000
DTEND;TZID=UTC:20190418T150000
DTSTAMP:20260423T091412
CREATED:20190319T142704Z
LAST-MODIFIED:20190319T142704Z
UID:1424-1555570800-1555599600@meade100.com
SUMMARY:OSHA 30
DESCRIPTION:
URL:https://meade100.com/safety-training/osha-30/
LOCATION:IL
ORGANIZER;CN="Safety":MAILTO:safety@meade100.com
END:VEVENT
BEGIN:VEVENT
DTSTART;TZID=UTC:20190417T070000
DTEND;TZID=UTC:20190417T110000
DTSTAMP:20260423T091412
CREATED:20190228T180523Z
LAST-MODIFIED:20190404T171510Z
UID:1380-1555484400-1555498800@meade100.com
SUMMARY:Excavation Competent Person Training
DESCRIPTION:
URL:https://meade100.com/safety-training/4-18-2019/
LOCATION:Meade Safety Training\, 6850 W 62nd St\, Chicago\, IL\, 60638\, United States
ORGANIZER;CN="Safety":MAILTO:safety@meade100.com
END:VEVENT
BEGIN:VEVENT
DTSTART;TZID=UTC:20190410T070000
DTEND;TZID=UTC:20190410T110000
DTSTAMP:20260423T091412
CREATED:20190228T180441Z
LAST-MODIFIED:20190228T180441Z
UID:1379-1554879600-1554894000@meade100.com
SUMMARY:Fall Protection / Aerial Lift Training
DESCRIPTION:
URL:https://meade100.com/safety-training/4-10-2019/
LOCATION:Meade Safety Training\, 6850 W 62nd St\, Chicago\, IL\, 60638\, United States
ORGANIZER;CN="Safety":MAILTO:safety@meade100.com
END:VEVENT
BEGIN:VEVENT
DTSTART;TZID=UTC:20190403T070000
DTEND;TZID=UTC:20190403T110000
DTSTAMP:20260423T091412
CREATED:20190228T180356Z
LAST-MODIFIED:20190228T180356Z
UID:1378-1554274800-1554289200@meade100.com
SUMMARY:NSC Flagger Training
DESCRIPTION:
URL:https://meade100.com/safety-training/4-3-2019/
LOCATION:Meade Safety Training\, 6850 W 62nd St\, Chicago\, IL\, 60638\, United States
ORGANIZER;CN="Safety":MAILTO:safety@meade100.com
END:VEVENT
BEGIN:VEVENT
DTSTART;TZID=UTC:20190320T070000
DTEND;TZID=UTC:20190320T110000
DTSTAMP:20260423T091412
CREATED:20190228T180312Z
LAST-MODIFIED:20190228T180312Z
UID:1377-1553065200-1553079600@meade100.com
SUMMARY:Supervisory Leadership Training
DESCRIPTION:
URL:https://meade100.com/safety-training/3-20-2019-2/
LOCATION:Meade Safety Training\, 6850 W 62nd St\, Chicago\, IL\, 60638\, United States
ORGANIZER;CN="Safety":MAILTO:safety@meade100.com
END:VEVENT
BEGIN:VEVENT
DTSTART;TZID=UTC:20190313T070000
DTEND;TZID=UTC:20190313T110000
DTSTAMP:20260423T091412
CREATED:20190228T165335Z
LAST-MODIFIED:20190228T165335Z
UID:1375-1552460400-1552474800@meade100.com
SUMMARY:First Aid/CPR/AED
DESCRIPTION:
URL:https://meade100.com/safety-training/3-13-2019/
LOCATION:Meade Safety Training\, 6850 W 62nd St\, Chicago\, IL\, 60638\, United States
ORGANIZER;CN="Safety":MAILTO:safety@meade100.com
END:VEVENT
BEGIN:VEVENT
DTSTART;TZID=UTC:20181219T130000
DTEND;TZID=UTC:20181219T170000
DTSTAMP:20260423T091412
CREATED:20180604T211028Z
LAST-MODIFIED:20181008T233948Z
UID:1084-1545224400-1545238800@meade100.com
SUMMARY:Flagger
DESCRIPTION:
URL:https://meade100.com/safety-training/12-19-2018/
LOCATION:Meade Safety Training\, 6850 W 62nd St\, Chicago\, IL\, 60638\, United States
ORGANIZER;CN="Craig Seneker":MAILTO:Safety@meade100.com
END:VEVENT
BEGIN:VEVENT
DTSTART;TZID=UTC:20181212T070000
DTEND;TZID=UTC:20181212T110000
DTSTAMP:20260423T091412
CREATED:20180604T210956Z
LAST-MODIFIED:20180724T190458Z
UID:1083-1544598000-1544612400@meade100.com
SUMMARY:Confined/Enclosed Space
DESCRIPTION:
URL:https://meade100.com/safety-training/12-12-2018/
LOCATION:Meade Safety Training\, 6850 W 62nd St\, Chicago\, IL\, 60638\, United States
ORGANIZER;CN="TBD":MAILTO:safety@meade100.com
END:VEVENT
BEGIN:VEVENT
DTSTART;TZID=UTC:20181205T070000
DTEND;TZID=UTC:20181205T110000
DTSTAMP:20260423T091412
CREATED:20180604T210926Z
LAST-MODIFIED:20180604T210926Z
UID:1082-1543993200-1544007600@meade100.com
SUMMARY:First Aid/CPR/AED
DESCRIPTION:
URL:https://meade100.com/safety-training/12-5-2018/
LOCATION:Meade Safety Training\, 6850 W 62nd St\, Chicago\, IL\, 60638\, United States
ORGANIZER;CN="TBD":MAILTO:safety@meade100.com
END:VEVENT
BEGIN:VEVENT
DTSTART;TZID=UTC:20181121T070000
DTEND;TZID=UTC:20181121T110000
DTSTAMP:20260423T091412
CREATED:20180604T210851Z
LAST-MODIFIED:20180604T210851Z
UID:1081-1542783600-1542798000@meade100.com
SUMMARY:Excavation
DESCRIPTION:
URL:https://meade100.com/safety-training/11-21-2018/
LOCATION:Meade Safety Training\, 6850 W 62nd St\, Chicago\, IL\, 60638\, United States
ORGANIZER;CN="TBD":MAILTO:safety@meade100.com
END:VEVENT
BEGIN:VEVENT
DTSTART;TZID=UTC:20181114T070000
DTEND;TZID=UTC:20181114T110000
DTSTAMP:20260423T091412
CREATED:20180604T210815Z
LAST-MODIFIED:20181008T233828Z
UID:1080-1542178800-1542193200@meade100.com
SUMMARY:Fall Protection/Aerial Lifts
DESCRIPTION:
URL:https://meade100.com/safety-training/11-14-2018/
LOCATION:Meade Safety Training\, 6850 W 62nd St\, Chicago\, IL\, 60638\, United States
ORGANIZER;CN="Justin Rich":MAILTO:Safety@meade100.com
END:VEVENT
BEGIN:VEVENT
DTSTART;TZID=UTC:20181107T070000
DTEND;TZID=UTC:20181107T110000
DTSTAMP:20260423T091412
CREATED:20180604T210739Z
LAST-MODIFIED:20181008T233750Z
UID:1079-1541574000-1541588400@meade100.com
SUMMARY:Forklift
DESCRIPTION:
URL:https://meade100.com/safety-training/11-7-2018/
LOCATION:Meade Safety Training\, 6850 W 62nd St\, Chicago\, IL\, 60638\, United States
ORGANIZER;CN="Mike Toliver":MAILTO:Safety@meade100.com
END:VEVENT
BEGIN:VEVENT
DTSTART;TZID=UTC:20181024T070000
DTEND;TZID=UTC:20181024T110000
DTSTAMP:20260423T091412
CREATED:20180604T210700Z
LAST-MODIFIED:20181008T233654Z
UID:1078-1540364400-1540378800@meade100.com
SUMMARY:Flagger
DESCRIPTION:
URL:https://meade100.com/safety-training/10-24-2018/
LOCATION:Meade Safety Training\, 6850 W 62nd St\, Chicago\, IL\, 60638\, United States
ORGANIZER;CN="Craig Seneker":MAILTO:Safety@meade100.com
END:VEVENT
BEGIN:VEVENT
DTSTART;TZID=UTC:20181017T070000
DTEND;TZID=UTC:20181017T110000
DTSTAMP:20260423T091412
CREATED:20180604T210628Z
LAST-MODIFIED:20180724T190309Z
UID:1077-1539759600-1539774000@meade100.com
SUMMARY:Confined/Enclosed Space
DESCRIPTION:
URL:https://meade100.com/safety-training/10-17-2018/
LOCATION:Meade Safety Training\, 6850 W 62nd St\, Chicago\, IL\, 60638\, United States
ORGANIZER;CN="TBD":MAILTO:safety@meade100.com
END:VEVENT
BEGIN:VEVENT
DTSTART;TZID=UTC:20181010T070000
DTEND;TZID=UTC:20181010T110000
DTSTAMP:20260423T091412
CREATED:20180604T210548Z
LAST-MODIFIED:20180604T210548Z
UID:1076-1539154800-1539169200@meade100.com
SUMMARY:First Aid/CPR/AED
DESCRIPTION:
URL:https://meade100.com/safety-training/10-10-2018/
LOCATION:Meade Safety Training\, 6850 W 62nd St\, Chicago\, IL\, 60638\, United States
ORGANIZER;CN="TBD":MAILTO:safety@meade100.com
END:VEVENT
BEGIN:VEVENT
DTSTART;TZID=UTC:20180926T070000
DTEND;TZID=UTC:20180926T110000
DTSTAMP:20260423T091412
CREATED:20180604T210446Z
LAST-MODIFIED:20180724T190235Z
UID:1075-1537945200-1537959600@meade100.com
SUMMARY:Excavation
DESCRIPTION:
URL:https://meade100.com/safety-training/9-26-2018/
LOCATION:Meade Safety Training\, 6850 W 62nd St\, Chicago\, IL\, 60638\, United States
END:VEVENT
BEGIN:VEVENT
DTSTART;TZID=UTC:20180912T070000
DTEND;TZID=UTC:20180919T110000
DTSTAMP:20260423T091412
CREATED:20180724T190157Z
LAST-MODIFIED:20180724T190157Z
UID:1121-1536735600-1537354800@meade100.com
SUMMARY:Fall Protection/Aerial Lifts
DESCRIPTION:
URL:https://meade100.com/safety-training/9-19-2018/
LOCATION:Meade Safety Training\, 6850 W 62nd St\, Chicago\, IL\, 60638\, United States
ORGANIZER;CN="Justin Rich":MAILTO:Safety@meade100.com
END:VEVENT
BEGIN:VEVENT
DTSTART;TZID=UTC:20180912T070000
DTEND;TZID=UTC:20180912T110000
DTSTAMP:20260423T091412
CREATED:20180604T210411Z
LAST-MODIFIED:20180724T190050Z
UID:1074-1536735600-1536750000@meade100.com
SUMMARY:Forklift
DESCRIPTION:
URL:https://meade100.com/safety-training/9-12-2018/
LOCATION:Meade Safety Training\, 6850 W 62nd St\, Chicago\, IL\, 60638\, United States
END:VEVENT
BEGIN:VEVENT
DTSTART;TZID=UTC:20180815T070000
DTEND;TZID=UTC:20180815T110000
DTSTAMP:20260423T091412
CREATED:20180604T210316Z
LAST-MODIFIED:20180724T190017Z
UID:1073-1534316400-1534330800@meade100.com
SUMMARY:Flagger
DESCRIPTION:
URL:https://meade100.com/safety-training/8-15-2018/
LOCATION:Meade Safety Training\, 6850 W 62nd St\, Chicago\, IL\, 60638\, United States
ORGANIZER;CN="Craig Seneker":MAILTO:Safety@meade100.com
END:VEVENT
BEGIN:VEVENT
DTSTART;TZID=UTC:20180808T070000
DTEND;TZID=UTC:20180808T110000
DTSTAMP:20260423T091412
CREATED:20180604T210156Z
LAST-MODIFIED:20180724T185946Z
UID:1072-1533711600-1533726000@meade100.com
SUMMARY:Confined/Enclosed Space
DESCRIPTION:
URL:https://meade100.com/safety-training/8-8-2018/
LOCATION:Meade Safety Training\, 6850 W 62nd St\, Chicago\, IL\, 60638\, United States
END:VEVENT
BEGIN:VEVENT
DTSTART;TZID=UTC:20180801T070000
DTEND;TZID=UTC:20180801T110000
DTSTAMP:20260423T091412
CREATED:20180724T185901Z
LAST-MODIFIED:20180724T185901Z
UID:1117-1533106800-1533121200@meade100.com
SUMMARY:First Aid/CPR/AED
DESCRIPTION:
URL:https://meade100.com/safety-training/forklift-2/
LOCATION:Meade Safety Training\, 6850 W 62nd St\, Chicago\, IL\, 60638\, United States
END:VEVENT
BEGIN:VEVENT
DTSTART;TZID=UTC:20180725T070000
DTEND;TZID=UTC:20180725T110000
DTSTAMP:20260423T091412
CREATED:20180604T202604Z
LAST-MODIFIED:20180604T205824Z
UID:1071-1532502000-1532516400@meade100.com
SUMMARY:Excavation
DESCRIPTION:
URL:https://meade100.com/safety-training/excavation/
LOCATION:Meade Safety Training\, 6850 W 62nd St\, Chicago\, IL\, 60638\, United States
ORGANIZER;CN="TBD":MAILTO:safety@meade100.com
END:VEVENT
BEGIN:VEVENT
DTSTART;TZID=UTC:20180718T070000
DTEND;TZID=UTC:20180718T110000
DTSTAMP:20260423T091412
CREATED:20180604T202527Z
LAST-MODIFIED:20180604T205851Z
UID:1070-1531897200-1531911600@meade100.com
SUMMARY:Fall Protection/Aerial Lifts
DESCRIPTION:
URL:https://meade100.com/safety-training/fall-protection-aerial-lifts/
LOCATION:Meade Safety Training\, 6850 W 62nd St\, Chicago\, IL\, 60638\, United States
ORGANIZER;CN="TBD":MAILTO:safety@meade100.com
END:VEVENT
BEGIN:VEVENT
DTSTART;TZID=UTC:20180711T070000
DTEND;TZID=UTC:20180711T110000
DTSTAMP:20260423T091413
CREATED:20180604T202452Z
LAST-MODIFIED:20180604T205931Z
UID:1069-1531292400-1531306800@meade100.com
SUMMARY:Forklift
DESCRIPTION:
URL:https://meade100.com/safety-training/forklift/
LOCATION:Meade Safety Training\, 6850 W 62nd St\, Chicago\, IL\, 60638\, United States
ORGANIZER;CN="TBD":MAILTO:safety@meade100.com
END:VEVENT
BEGIN:VEVENT
DTSTART;TZID=UTC:20180627T070000
DTEND;TZID=UTC:20180627T110000
DTSTAMP:20260423T091413
CREATED:20180604T202420Z
LAST-MODIFIED:20180604T202420Z
UID:1068-1530082800-1530097200@meade100.com
SUMMARY:Flagger
DESCRIPTION:
URL:https://meade100.com/safety-training/flagger/
LOCATION:Meade Safety Training\, 6850 W 62nd St\, Chicago\, IL\, 60638\, United States
ORGANIZER;CN="TBD":MAILTO:safety@meade100.com
END:VEVENT
BEGIN:VEVENT
DTSTART;TZID=UTC:20180620T070000
DTEND;TZID=UTC:20180620T110000
DTSTAMP:20260423T091413
CREATED:20180604T194604Z
LAST-MODIFIED:20180604T194604Z
UID:1067-1529478000-1529492400@meade100.com
SUMMARY:Confined Space
DESCRIPTION:
URL:https://meade100.com/safety-training/confined-space/
LOCATION:Meade Safety Training\, 6850 W 62nd St\, Chicago\, IL\, 60638\, United States
ORGANIZER;CN="TBD":MAILTO:safety@meade100.com
END:VEVENT
BEGIN:VEVENT
DTSTART;TZID=UTC:20180613T120000
DTEND;TZID=UTC:20180613T160000
DTSTAMP:20260423T091413
CREATED:20180604T185903Z
LAST-MODIFIED:20180604T204409Z
UID:1063-1528891200-1528905600@meade100.com
SUMMARY:First Aid/CPR/AED
DESCRIPTION:
URL:https://meade100.com/safety-training/6-13-18/
LOCATION:Meade Safety Training\, 6850 W 62nd St\, Chicago\, IL\, 60638\, United States
ORGANIZER;CN="TBD":MAILTO:safety@meade100.com
END:VEVENT
END:VCALENDAR